BEGIN:VCALENDAR
VERSION:2.0
PRODID:-//The Engine House Gym - ECPv6.9.0//NONSGML v1.0//EN
CALSCALE:GREGORIAN
METHOD:PUBLISH
X-ORIGINAL-URL:https://enginehousegym.co.uk
X-WR-CALDESC:Events for The Engine House Gym
REFRESH-INTERVAL;VALUE=DURATION:PT1H
X-Robots-Tag:noindex
X-PUBLISHED-TTL:PT1H
BEGIN:VTIMEZONE
TZID:Europe/London
BEGIN:DAYLIGHT
TZOFFSETFROM:+0000
TZOFFSETTO:+0100
TZNAME:BST
DTSTART:20250330T010000
END:DAYLIGHT
BEGIN:STANDARD
TZOFFSETFROM:+0100
TZOFFSETTO:+0000
TZNAME:GMT
DTSTART:20251026T010000
END:STANDARD
END:VTIMEZONE
BEGIN:VEVENT
DTSTART;VALUE=DATE:20251012
DTEND;VALUE=DATE:20251013
DTSTAMP:20260421T205057
CREATED:20250116T161349Z
LAST-MODIFIED:20250116T161349Z
UID:2212-1760227200-1760313599@enginehousegym.co.uk
SUMMARY:Oxford Half Marathon 2025
DESCRIPTION:The Oxford Half Marathon is a fast and flat 13.1 mile route that showcases Oxford’s most iconic landmarks. Starting and finishing in the city centre\, this race takes runners over the River Cherwell and out to the charming village of Old Marston before looping back past the impressive university colleges. Join Team RNIB for a fantastic way to see this historic city! \nTake on this iconic running challenge and raise vital funds to support blind and partially sighted people when they need it most.
URL:https://enginehousegym.co.uk/event/oxford-half-marathon-2025/
LOCATION:Oxford\, United Kingdom
ATTACH;FMTTYPE=image/jpeg:https://enginehousegym.co.uk/wp-content/uploads/2025/01/RNIBweb-20180907040906351.jpg
END:VEVENT
BEGIN:VEVENT
DTSTART;VALUE=DATE:20251025
DTEND;VALUE=DATE:20251101
DTSTAMP:20260421T205057
CREATED:20250116T161755Z
LAST-MODIFIED:20250116T161755Z
UID:2217-1761350400-1761955199@enginehousegym.co.uk
SUMMARY:Skeleton Crew Challenge
DESCRIPTION:In honor of Halloween\, we invite you to participate in the Skeleton Crew Challenge. \nRow\, ski or ride at least 31\,000 meters between October 25 and October 31.
URL:https://enginehousegym.co.uk/event/skeleton-crew-challenge/
LOCATION:Anywhere
ATTACH;FMTTYPE=image/png:https://enginehousegym.co.uk/wp-content/uploads/2025/01/Asset-4@600x.png
END:VEVENT
END:VCALENDAR