BEGIN:VCALENDAR
VERSION:2.0
PRODID:-//The Engine House Gym - ECPv6.9.0//NONSGML v1.0//EN
CALSCALE:GREGORIAN
METHOD:PUBLISH
X-WR-CALNAME:The Engine House Gym
X-ORIGINAL-URL:https://enginehousegym.co.uk
X-WR-CALDESC:Events for The Engine House Gym
REFRESH-INTERVAL;VALUE=DURATION:PT1H
X-Robots-Tag:noindex
X-PUBLISHED-TTL:PT1H
BEGIN:VTIMEZONE
TZID:Europe/London
BEGIN:DAYLIGHT
TZOFFSETFROM:+0000
TZOFFSETTO:+0100
TZNAME:BST
DTSTART:20250330T010000
END:DAYLIGHT
BEGIN:STANDARD
TZOFFSETFROM:+0100
TZOFFSETTO:+0000
TZNAME:GMT
DTSTART:20251026T010000
END:STANDARD
END:VTIMEZONE
BEGIN:VEVENT
DTSTART;VALUE=DATE:20250705
DTEND;VALUE=DATE:20250706
DTSTAMP:20260422T013333
CREATED:20250116T150525Z
LAST-MODIFIED:20250116T150525Z
UID:2189-1751673600-1751759999@enginehousegym.co.uk
SUMMARY:Inflatable 5k
DESCRIPTION:Get ready to jump\, bounce\, slide and swing through the World’s BIGGEST and CRAZIEST Inflatable 5k Obstacle Course! \nThe Inflatable 5k Obstacle Course is coming to Bristol on Saturday 5th July 2025 and it’s going to be Epic! The obstacles are BIGGER\, BOUNCIER and BETTER than ever before! You’ll be jumping\, sliding and laughing all the way to the finish line. Grab your friends\, family or tackle it on your own. Lace up your trainers and get ready for the ultimate day out!
URL:https://enginehousegym.co.uk/event/inflatable-5k/
LOCATION:North Somerset Showground\, Bristol Road\, Bristol\, Bristol\, BS48 1NF\, United Kingdom
ATTACH;FMTTYPE=image/png:https://enginehousegym.co.uk/wp-content/uploads/2025/01/i5zqnzdimz7sumzb.png
END:VEVENT
END:VCALENDAR