BEGIN:VCALENDAR
VERSION:2.0
PRODID:-//The Engine House Gym - ECPv6.9.0//NONSGML v1.0//EN
CALSCALE:GREGORIAN
METHOD:PUBLISH
X-ORIGINAL-URL:https://enginehousegym.co.uk
X-WR-CALDESC:Events for The Engine House Gym
REFRESH-INTERVAL;VALUE=DURATION:PT1H
X-Robots-Tag:noindex
X-PUBLISHED-TTL:PT1H
BEGIN:VTIMEZONE
TZID:Europe/London
BEGIN:DAYLIGHT
TZOFFSETFROM:+0000
TZOFFSETTO:+0100
TZNAME:BST
DTSTART:20250330T010000
END:DAYLIGHT
BEGIN:STANDARD
TZOFFSETFROM:+0100
TZOFFSETTO:+0000
TZNAME:GMT
DTSTART:20251026T010000
END:STANDARD
END:VTIMEZONE
BEGIN:VEVENT
DTSTART;VALUE=DATE:20250801
DTEND;VALUE=DATE:20250829
DTSTAMP:20260422T013744
CREATED:20250116T155247Z
LAST-MODIFIED:20250116T155247Z
UID:2194-1754006400-1756425599@enginehousegym.co.uk
SUMMARY:Dog Days of Summer Challenge
DESCRIPTION:Complete each of the following four distance goals during the timeframes indicated and log them in your online logbook: \n\nWeek 1\, Aug. 1–7: 10\,000 meters\nWeek 2\, Aug. 8–14: 20\,000 meters\nWeek 3\, Aug. 15–21: 30\,000 meters\nWeek 4\, Aug. 22–28: 40\,000 meters\n\nThe distance goals do not have to be done in one sitting\, but must be done during the timeframe indicated.
URL:https://enginehousegym.co.uk/event/dog-days-of-summer-challenge/
LOCATION:Anywhere
ATTACH;FMTTYPE=image/png:https://enginehousegym.co.uk/wp-content/uploads/2025/01/Asset-3@600x.png
END:VEVENT
BEGIN:VEVENT
DTSTART;VALUE=DATE:20250802
DTEND;VALUE=DATE:20250803
DTSTAMP:20260422T013744
CREATED:20250116T155644Z
LAST-MODIFIED:20250116T155644Z
UID:2197-1754092800-1754179199@enginehousegym.co.uk
SUMMARY:5k Colour Run 2025
DESCRIPTION:Our Colour Run is a fun\, vibrant 5km run through Harewood Forest in Wherwell\, taking place on Saturday 2 August 2025. The run is open to all abilities and all ages\, it will take around an hour to complete – ideal for friends\, families and colleagues! \nTogether\, dressed in our white charity branded t-shirts\, we’ll move along the route\, receiving splashes of colour from brightly coloured paint balls\, thrown by onlookers\, our sponsors and from one another!
URL:https://enginehousegym.co.uk/event/5k-colour-run-2025/
LOCATION:Wherwell Pavillion\, Long Parish Road\, SP11 7JN\, United Kingdom
ATTACH;FMTTYPE=image/png:https://enginehousegym.co.uk/wp-content/uploads/2025/01/HHC-horizontal-logo-RGB-colour-tight-1000px.png
END:VEVENT
END:VCALENDAR