BEGIN:VCALENDAR
VERSION:2.0
PRODID:-//The Engine House Gym - ECPv6.9.0//NONSGML v1.0//EN
CALSCALE:GREGORIAN
METHOD:PUBLISH
X-ORIGINAL-URL:https://enginehousegym.co.uk
X-WR-CALDESC:Events for The Engine House Gym
REFRESH-INTERVAL;VALUE=DURATION:PT1H
X-Robots-Tag:noindex
X-PUBLISHED-TTL:PT1H
BEGIN:VTIMEZONE
TZID:Europe/London
BEGIN:DAYLIGHT
TZOFFSETFROM:+0000
TZOFFSETTO:+0100
TZNAME:BST
DTSTART:20250330T010000
END:DAYLIGHT
BEGIN:STANDARD
TZOFFSETFROM:+0100
TZOFFSETTO:+0000
TZNAME:GMT
DTSTART:20251026T010000
END:STANDARD
END:VTIMEZONE
BEGIN:VEVENT
DTSTART;VALUE=DATE:20250621
DTEND;VALUE=DATE:20250623
DTSTAMP:20260422T045457
CREATED:20250116T150001Z
LAST-MODIFIED:20250116T150001Z
UID:2184-1750464000-1750636799@enginehousegym.co.uk
SUMMARY:2025 Cotswold Way Challenge
DESCRIPTION:A challenge event you can take on at your pace. The Cotswold Way Challenge invites you to walk\, jog or run a distance of your choice\, along a signed route\, with free food and drink at regular rest stops\, plus support including medics\, marshals and massage.
URL:https://enginehousegym.co.uk/event/2025-cotswold-way-challenge/
LOCATION:Royal Agricultural University\, Stroud Road\, Cirencester\, GL7 6JS\, United Kingdom
ATTACH;FMTTYPE=image/png:https://enginehousegym.co.uk/wp-content/uploads/2025/01/Cancerresearchlogo.png
END:VEVENT
END:VCALENDAR