BEGIN:VCALENDAR
VERSION:2.0
PRODID:-//The Engine House Gym - ECPv6.9.0//NONSGML v1.0//EN
CALSCALE:GREGORIAN
METHOD:PUBLISH
X-ORIGINAL-URL:https://enginehousegym.co.uk
X-WR-CALDESC:Events for The Engine House Gym
REFRESH-INTERVAL;VALUE=DURATION:PT1H
X-Robots-Tag:noindex
X-PUBLISHED-TTL:PT1H
BEGIN:VTIMEZONE
TZID:Europe/London
BEGIN:DAYLIGHT
TZOFFSETFROM:+0000
TZOFFSETTO:+0100
TZNAME:BST
DTSTART:20250330T010000
END:DAYLIGHT
BEGIN:STANDARD
TZOFFSETFROM:+0100
TZOFFSETTO:+0000
TZNAME:GMT
DTSTART:20251026T010000
END:STANDARD
END:VTIMEZONE
BEGIN:VEVENT
DTSTART;VALUE=DATE:20250401
DTEND;VALUE=DATE:20250416
DTSTAMP:20260422T080719
CREATED:20250116T142333Z
LAST-MODIFIED:20250116T142333Z
UID:2165-1743465600-1744761599@enginehousegym.co.uk
SUMMARY:April Fools Challenge
DESCRIPTION:Row\, ski or ride at least the correct amount each day from April 1 through to April 15. \n\nApril 1: at least 1000 meters\nApril 2: at least 2000 meters\nApril 3: at least 3000 meters\n\nand so on up to at least 15\,000 meters on April 15
URL:https://enginehousegym.co.uk/event/april-fools-challenge/
LOCATION:Anywhere
ATTACH;FMTTYPE=image/png:https://enginehousegym.co.uk/wp-content/uploads/2025/01/aprilfools-2025-web-01.png
END:VEVENT
END:VCALENDAR