BEGIN:VCALENDAR
VERSION:2.0
PRODID:-//The Engine House Gym - ECPv6.9.0//NONSGML v1.0//EN
CALSCALE:GREGORIAN
METHOD:PUBLISH
X-ORIGINAL-URL:https://enginehousegym.co.uk
X-WR-CALDESC:Events for The Engine House Gym
REFRESH-INTERVAL;VALUE=DURATION:PT1H
X-Robots-Tag:noindex
X-PUBLISHED-TTL:PT1H
BEGIN:VTIMEZONE
TZID:Europe/London
BEGIN:DAYLIGHT
TZOFFSETFROM:+0000
TZOFFSETTO:+0100
TZNAME:BST
DTSTART:20250330T010000
END:DAYLIGHT
BEGIN:STANDARD
TZOFFSETFROM:+0100
TZOFFSETTO:+0000
TZNAME:GMT
DTSTART:20251026T010000
END:STANDARD
END:VTIMEZONE
BEGIN:VEVENT
DTSTART;VALUE=DATE:20250201
DTEND;VALUE=DATE:20250301
DTSTAMP:20260422T105652
CREATED:20250116T140131Z
LAST-MODIFIED:20250116T140131Z
UID:2145-1738368000-1740787199@enginehousegym.co.uk
SUMMARY:Run 28 Miles in February
DESCRIPTION:Are you ready to go the distance for people living with cancer? Sign up to Run 28 Miles in February and get the new year started right. \nThe challenge is to run 28 miles over the 28 days of February. You can split the miles up however you like throughout the month\, but it works out as one mile each day. On the treadmill or on the pavement\, daytime or night\, tie up those laces and go the extra mile for people living with cancer.
URL:https://enginehousegym.co.uk/event/run-28-miles-in-february/
LOCATION:Anywhere
ATTACH;FMTTYPE=image/png:https://enginehousegym.co.uk/wp-content/uploads/2025/01/Macmillan-logo.png
END:VEVENT
BEGIN:VEVENT
DTSTART;VALUE=DATE:20250201
DTEND;VALUE=DATE:20250301
DTSTAMP:20260422T105652
CREATED:20250116T140705Z
LAST-MODIFIED:20250116T140705Z
UID:2150-1738368000-1740787199@enginehousegym.co.uk
SUMMARY:Walk for Hearts
DESCRIPTION:This February\, we’re challenging you to walk 20\, 28 or 50 miles in a month. \nYou can go on short walks in your local park during the week or save your miles up and go on longer walks in the countryside with friends at the weekend. It’s your challenge\, so you choose when and where you get your miles in!
URL:https://enginehousegym.co.uk/event/walk-for-hearts/
LOCATION:Anywhere
ATTACH;FMTTYPE=image/png:https://enginehousegym.co.uk/wp-content/uploads/2025/01/British_Heart_Foundation.png
END:VEVENT
BEGIN:VEVENT
DTSTART;VALUE=DATE:20250201
DTEND;VALUE=DATE:20250301
DTSTAMP:20260422T105652
CREATED:20250116T141024Z
LAST-MODIFIED:20250116T141024Z
UID:2154-1738368000-1740787199@enginehousegym.co.uk
SUMMARY:Tour de SkiErg
DESCRIPTION:Using the Concept2 SkiErg\, complete each of the following four events during the timeframes indicated and log them in your online logbook: \n\nWeek 1\, Feb. 1–7: 5000 meters\nWeek 2\, Feb. 8–14: 500 meters\nWeek 3\, Feb. 15–21: 2000 meters\nWeek 4\, Feb. 22–28: 10\,000 meters\n\nEach week’s distance must be completed as a single distance workout (no intervals). They are not cumulative meters.
URL:https://enginehousegym.co.uk/event/tour-de-skierg/
LOCATION:Anywhere
ATTACH;FMTTYPE=image/png:https://enginehousegym.co.uk/wp-content/uploads/2025/01/tourdese-2025-web-01.png
END:VEVENT
END:VCALENDAR