BEGIN:VCALENDAR
VERSION:2.0
PRODID:-//The Engine House Gym - ECPv6.9.0//NONSGML v1.0//EN
CALSCALE:GREGORIAN
METHOD:PUBLISH
X-WR-CALNAME:The Engine House Gym
X-ORIGINAL-URL:https://enginehousegym.co.uk
X-WR-CALDESC:Events for The Engine House Gym
REFRESH-INTERVAL;VALUE=DURATION:PT1H
X-Robots-Tag:noindex
X-PUBLISHED-TTL:PT1H
BEGIN:VTIMEZONE
TZID:Europe/London
BEGIN:DAYLIGHT
TZOFFSETFROM:+0000
TZOFFSETTO:+0100
TZNAME:BST
DTSTART:20250330T010000
END:DAYLIGHT
BEGIN:STANDARD
TZOFFSETFROM:+0100
TZOFFSETTO:+0000
TZNAME:GMT
DTSTART:20251026T010000
END:STANDARD
END:VTIMEZONE
BEGIN:VEVENT
DTSTART;TZID=Europe/London:20250126T100000
DTEND;TZID=Europe/London:20250126T140000
DTSTAMP:20260422T124224
CREATED:20250116T135043Z
LAST-MODIFIED:20250116T135043Z
UID:2142-1737885600-1737900000@enginehousegym.co.uk
SUMMARY:Mettle Bender Powerlifting Competition
DESCRIPTION:Come along to our friendly powerlifting competition and try your hand at deadlift\, bench and squat.\nGo full power or single lift\, it’s up to you\, but grab the chance to set your benchmark and get a feel for what entering a powerlifting competition is all about.\nThis is for everyone\, so it doesn’t matter if you’re just starting out or have been lifting longer than you care to think about\, we’ve got space for you! It doesn’t matter if you’re lifting double or triple digits either\, this will be a supportive event aiming to give you confidence in your abilities.
URL:https://enginehousegym.co.uk/event/mettle-bender-powerlifting-competition/
LOCATION:The Engine House Gym\, The Close\, Ardington\, Oxfordshire\, OX12 8PT\, United Kingdom
ATTACH;FMTTYPE=image/jpeg:https://enginehousegym.co.uk/wp-content/uploads/2023/05/mbplc.jpg
END:VEVENT
END:VCALENDAR